Workbook

Sheet الغلاف الازرق

Sheet الغلاف الداخلي
L34: ز | M34: حـ | N34: ط | O34: ي | P34: النتيجة السنوية | R34: ملحوظــــــــات
L35: التقـــــــــويم الاول | M35: التقـــــــــويم الثاني | N35: الاختبـــار النهــائي | O35: المــــجمـــــوع | Q35: علامة اختبار الإكمال
L36: 0.3 | M36: 0.3 | N36: 0.4 | O36: 1 | P36: 1
O37: =IF(COUNT(L37:N37)>3,SUM(L37:N37),"") | P37: =IF(COUNT('دفتر العلامات'!G6,O37)>=2,ROUND(('دفتر العلامات'!G6+O37)/2,0),"")
O38: =IF(COUNT(L38:N38)>3,SUM(L38:N38),"") | P38: =IF(COUNT('دفتر العلامات'!G7,O38)>=2,ROUND(('دفتر العلامات'!G7+O38)/2,0),"")
O39: =IF(COUNT(L39:N39)>3,SUM(L39:N39),"") | P39: =IF(COUNT('دفتر العلامات'!G8,O39)>=2,ROUND(('دفتر العلامات'!G8+O39)/2,0),"")
O40: =IF(COUNT(L40:N40)>3,SUM(L40:N40),"") | P40: =IF(COUNT('دفتر العلامات'!G9,O40)>=2,ROUND(('دفتر العلامات'!G9+O40)/2,0),"")
O41: =IF(COUNT(L41:N41)>3,SUM(L41:N41),"") | P41: =IF(COUNT('دفتر العلامات'!G10,O41)>=2,ROUND(('دفتر العلامات'!G10+O41)/2,0),"")
O42: =IF(COUNT(L42:N42)>3,SUM(L42:N42),"") | P42: =IF(COUNT('دفتر العلامات'!G11,O42)>=2,ROUND(('دفتر العلامات'!G11+O42)/2,0),"")
O43: =IF(COUNT(L43:N43)>3,SUM(L43:N43),"") | P43: =IF(COUNT('دفتر العلامات'!G12,O43)>=2,ROUND(('دفتر العلامات'!G12+O43)/2,0),"")
O44: =IF(COUNT(L44:N44)>3,SUM(L44:N44),"") | P44: =IF(COUNT('دفتر العلامات'!G13,O44)>=2,ROUND(('دفتر العلامات'!G13+O44)/2,0),"")
O45: =IF(COUNT(L45:N45)>3,SUM(L45:N45),"") | P45: =IF(COUNT('دفتر العلامات'!G14,O45)>=2,ROUND(('دفتر العلامات'!G14+O45)/2,0),"")
O46: =IF(COUNT(L46:N46)>3,SUM(L46:N46),"") | P46: =IF(COUNT('دفتر العلامات'!G15,O46)>=2,ROUND(('دفتر العلامات'!G15+O46)/2,0),"")
O47: =IF(COUNT(L47:N47)>3,SUM(L47:N47),"") | P47: =IF(COUNT('دفتر العلامات'!G16,O47)>=2,ROUND(('دفتر العلامات'!G16+O47)/2,0),"")
O48: =IF(COUNT(L48:N48)>3,SUM(L48:N48),"") | P48: =IF(COUNT('دفتر العلامات'!G17,O48)>=2,ROUND(('دفتر العلامات'!G17+O48)/2,0),"")
... O61: =IF(COUNT(L61:N61)>3,SUM(L61:N61),"") | P61: =IF(COUNT('دفتر العلامات'!G30,O61)>=2,ROUND(('دفتر العلامات'!G30+O61)/2,0),"")

Sheet دفتر العلامات
B1: الصف : | H1: الشعبة ( )
A3: الرقم المتسلسل | B3: الاســــــــــــــــــم | D3: ب | E3: جـ | F3: د | G3: هـ | H3: ملحوظــــــات
D4: التقـــــــــويم الاول | E4: التقـــــــــويم الثاني | F4: الاختبـــار النهــائي | G4: المجمـــــــــــــــوع
D5: 0.3 | E5: 0.3 | F5: 0.4 | G5: 1
G6: =IF(COUNT(D6:F6)>3,SUM(D6:F6),"")
G7: =IF(COUNT(D7:F7)>3,SUM(D7:F7),"")
G8: =IF(COUNT(D8:F8)>3,SUM(D8:F8),"")
G9: =IF(COUNT(D9:F9)>3,SUM(D9:F9),"")
G10: =IF(COUNT(D10:F10)>3,SUM(D10:F10),"")
G11: =IF(COUNT(D11:F11)>3,SUM(D11:F11),"")
G12: =IF(COUNT(D12:F12)>3,SUM(D12:F12),"")
G13: =IF(COUNT(D13:F13)>3,SUM(D13:F13),"")
G14: =IF(COUNT(D14:F14)>3,SUM(D14:F14),"")
G15: =IF(COUNT(D15:F15)>3,SUM(D15:F15),"")
G16: =IF(COUNT(D16:F16)>3,SUM(D16:F16),"")
G17: =IF(COUNT(D17:F17)>3,SUM(D17:F17),"")
... G30: =IF(COUNT(D30:F30)>3,SUM(D30:F30),"")
A33: - 46 -
B34: الصف : | H34: الشعبة ( ) | M34: اسم المادة
A36: الرقم المتسلسل | B36: الاســــــــــــــــــم | D36: ب | E36: جـ | F36: د | G36: هـ | H36: ملحوظــــــات | K36: ز | L36: حـ | M36: ط | N36: ي | O36: النتيجة السنوية | Q36: ملحوظــــــــات
D37: التقـــــــــويم الاول | E37: التقـــــــــويم الثاني | F37: الاختبـــار النهــائي | G37: المجمـــــــــــــــوع | K37: التقـــــــــويم الاول | L37: التقـــــــــويم الثاني | M37: الاختبـــار النهــائي | N37: المجمـــــــــــــــوع | P37: علامة اختبار الإكمال
D38: 0.3 | E38: 0.3 | F38: 0.4 | G38: 1 | K38: =D38 -> 0.3 | L38: =E38 -> 0.3 | M38: =F38 -> 0.4 | N38: 1 | O38: 1
B39: ابداء أسماء الطلاب من هنا | G39: =IF(COUNT(D39:F39)>3,SUM(D39:F39),"") | N39: =IF(COUNT(K39:M39)>3,SUM(K39:M39),"") | O39: =IF(COUNT(N39,G71)>=2,ROUND((N39+G71)/2,0),"")
G40: =IF(COUNT(D40:F40)>3,SUM(D40:F40),"") | N40: =IF(COUNT(K40:M40)>3,SUM(K40:M40),"") | O40: =IF(COUNT(N40,G72)>=2,ROUND((N40+G72)/2,0),"")
G41: =IF(COUNT(D41:F41)>3,SUM(D41:F41),"") | N41: =IF(COUNT(K41:M41)>3,SUM(K41:M41),"") | O41: =IF(COUNT(N41,G73)>=2,ROUND((N41+G73)/2,0),"")
G42: =IF(COUNT(D42:F42)>3,SUM(D42:F42),"") | N42: =IF(COUNT(K42:M42)>3,SUM(K42:M42),"") | O42: =IF(COUNT(N42,G74)>=2,ROUND((N42+G74)/2,0),"")
G43: =IF(COUNT(D43:F43)>3,SUM(D43:F43),"") | N43: =IF(COUNT(K43:M43)>3,SUM(K43:M43),"") | O43: =IF(COUNT(N43,G75)>=2,ROUND((N43+G75)/2,0),"")
G44: =IF(COUNT(D44:F44)>3,SUM(D44:F44),"") | N44: =IF(COUNT(K44:M44)>3,SUM(K44:M44),"") | O44: =IF(COUNT(N44,G76)>=2,ROUND((N44+G76)/2,0),"")
G45: =IF(COUNT(D45:F45)>3,SUM(D45:F45),"") | N45: =IF(COUNT(K45:M45)>3,SUM(K45:M45),"") | O45: =IF(COUNT(N45,G77)>=2,ROUND((N45+G77)/2,0),"")
G46: =IF(COUNT(D46:F46)>3,SUM(D46:F46),"") | N46: =IF(COUNT(K46:M46)>3,SUM(K46:M46),"") | O46: =IF(COUNT(N46,G78)>=2,ROUND((N46+G78)/2,0),"")
G47: =IF(COUNT(D47:F47)>3,SUM(D47:F47),"") | N47: =IF(COUNT(K47:M47)>3,SUM(K47:M47),"") | O47: =IF(COUNT(N47,G79)>=2,ROUND((N47+G79)/2,0),"")
G48: =IF(COUNT(D48:F48)>3,SUM(D48:F48),"") | N48: =IF(COUNT(K48:M48)>3,SUM(K48:M48),"") | O48: =IF(COUNT(N48,G80)>=2,ROUND((N48+G80)/2,0),"")
G49: =IF(COUNT(D49:F49)>3,SUM(D49:F49),"") | N49: =IF(COUNT(K49:M49)>3,SUM(K49:M49),"") | O49: =IF(COUNT(N49,G81)>=2,ROUND((N49+G81)/2,0),"")
G50: =IF(COUNT(D50:F50)>3,SUM(D50:F50),"") | N50: =IF(COUNT(K50:M50)>3,SUM(K50:M50),"") | O50: =IF(COUNT(N50,G82)>=2,ROUND((N50+G82)/2,0),"")
G51: =IF(COUNT(D51:F51)>3,SUM(D51:F51),"") | N51: =IF(COUNT(K51:M51)>3,SUM(K51:M51),"") | O51: =IF(COUNT(N51,G83)>=2,ROUND((N51+G83)/2,0),"")
... G63: =IF(COUNT(D63:F63)>3,SUM(D63:F63),"") | N63: =IF(COUNT(K63:M63)>3,SUM(K63:M63),"") | O63: =IF(COUNT(N63,G95)>=2,ROUND((N63+G95)/2,0),"")
A65: - 4 - | K65: 45
B66: الصف : | H66: الشعبة ( ) | M66: اسم المادة
A68: الرقم المتسلسل | B68: الاســــــــــــــــــم | D68: ب | E68: جـ | F68: د | G68: هـ | H68: ملحوظــــــات | K68: ز | L68: حـ | M68: ط | N68: ي | O68: النتيجة السنوية | Q68: ملحوظــــــــات
D69: التقـــــــــويم الاول | E69: التقـــــــــويم الثاني | F69: الاختبـــار النهــائي | G69: المجمـــــــــــــــوع | K69: التقـــــــــويم الاول | L69: التقـــــــــويم الثاني | M69: الاختبـــار النهــائي | N69: المجمـــــــــــــــوع | P69: علامة اختبار الإكمال
...
