Workbook

Sheet الغلاف الازرق

Sheet الغلاف الداخلي
L34: ز | M34: حـ | N34: ط | O34: ي | P34: النتيجة السنوية | R34: ملحوظــــــــات
L35: التقـــــــــويم الاول | M35: التقـــــــــويم الثاني | N35: الاختبـــار النهــائي | O35: المــــجمـــــوع | Q35: علامة اختبار الإكمال
L36: 0.3 | M36: 0.3 | N36: 0.4 | O36: 1 | P36: 1
O37: =IF(COUNT(L37:N37)>3,SUM(L37:N37),"") | P37: =IF(COUNT('دفتر العلامات'!G6,O37)>=2,ROUND(('دفتر العلامات'!G6+O37)/2,0),"")
O38: =IF(COUNT(L38:N38)>3,SUM(L38:N38),"") | P38: =IF(COUNT('دفتر العلامات'!G7,O38)>=2,ROUND(('دفتر العلامات'!G7+O38)/2,0),"")
O39: =IF(COUNT(L39:N39)>3,SUM(L39:N39),"") | P39: =IF(COUNT('دفتر العلامات'!G8,O39)>=2,ROUND(('دفتر العلامات'!G8+O39)/2,0),"")
O40: =IF(COUNT(L40:N40)>3,SUM(L40:N40),"") | P40: =IF(COUNT('دفتر العلامات'!G9,O40)>=2,ROUND(('دفتر العلامات'!G9+O40)/2,0),"")
O41: =IF(COUNT(L41:N41)>3,SUM(L41:N41),"") | P41: =IF(COUNT('دفتر العلامات'!G10,O41)>=2,ROUND(('دفتر العلامات'!G10+O41)/2,0),"")
O42: =IF(COUNT(L42:N42)>3,SUM(L42:N42),"") | P42: =IF(COUNT('دفتر العلامات'!G11,O42)>=2,ROUND(('دفتر العلامات'!G11+O42)/2,0),"")
O43: =IF(COUNT(L43:N43)>3,SUM(L43:N43),"") | P43: =IF(COUNT('دفتر العلامات'!G12,O43)>=2,ROUND(('دفتر العلامات'!G12+O43)/2,0),"")
O44: =IF(COUNT(L44:N44)>3,SUM(L44:N44),"") | P44: =IF(COUNT('دفتر العلامات'!G13,O44)>=2,ROUND(('دفتر العلامات'!G13+O44)/2,0),"")
O45: =IF(COUNT(L45:N45)>3,SUM(L45:N45),"") | P45: =IF(COUNT('دفتر العلامات'!G14,O45)>=2,ROUND(('دفتر العلامات'!G14+O45)/2,0),"")
O46: =IF(COUNT(L46:N46)>3,SUM(L46:N46),"") | P46: =IF(COUNT('دفتر العلامات'!G15,O46)>=2,ROUND(('دفتر العلامات'!G15+O46)/2,0),"")
O47: =IF(COUNT(L47:N47)>3,SUM(L47:N47),"") | P47: =IF(COUNT('دفتر العلامات'!G16,O47)>=2,ROUND(('دفتر العلامات'!G16+O47)/2,0),"")
O48: =IF(COUNT(L48:N48)>3,SUM(L48:N48),"") | P48: =IF(COUNT('دفتر العلامات'!G17,O48)>=2,ROUND(('دفتر العلامات'!G17+O48)/2,0),"")
... O61: =IF(COUNT(L61:N61)>3,SUM(L61:N61),"") | P61: =IF(COUNT('دفتر العلامات'!G30,O61)>=2,ROUND(('دفتر العلامات'!G30+O61)/2,0),"")

Sheet دفتر العلامات
B1: الصف : | H1: الشعبة ( )
A3: الرقم المتسلسل | B3: الاســــــــــــــــــم | D3: ب | E3: جـ | F3: د | G3: هـ | H3: ملحوظــــــات
D4: التقـــــــــويم الاول | E4: التقـــــــــويم الثاني | F4: الاختبـــار النهــائي | G4: المجمـــــــــــــــوع
D5: 0.3 | E5: 0.3 | F5: 0.4 | G5: 1
G6: =IF(COUNT(D6:F6)>3,SUM(D6:F6),"")
G7: =IF(COUNT(D7:F7)>3,SUM(D7:F7),"")
G8: =IF(COUNT(D8:F8)>3,SUM(D8:F8),"")
G9: =IF(COUNT(D9:F9)>3,SUM(D9:F9),"")
G10: =IF(COUNT(D10:F10)>3,SUM(D10:F10),"")
G11: =IF(COUNT(D11:F11)>3,SUM(D11:F11),"")
G12: =IF(COUNT(D12:F12)>3,SUM(D12:F12),"")
G13: =IF(COUNT(D13:F13)>3,SUM(D13:F13),"")
G14: =IF(COUNT(D14:F14)>3,SUM(D14:F14),"")
G15: =IF(COUNT(D15:F15)>3,SUM(D15:F15),"")
G16: =IF(COUNT(D16:F16)>3,SUM(D16:F16),"")
G17: =IF(COUNT(D17:F17)>3,SUM(D17:F17),"")
... G30: =IF(COUNT(D30:F30)>3,SUM(D30:F30),"")
A33: - 46 -
B34: الصف : | H34: الشعبة ( ) | M34: اسم المادة
A36: الرقم المتسلسل | B36: الاســــــــــــــــــم | D36: ب | E36: جـ | F36: د | G36: هـ | H36: ملحوظــــــات | K36: ز | L36: حـ | M36: ط | N36: ي | O36: النتيجة السنوية | Q36: ملحوظــــــــات
D37: التقـــــــــويم الاول | E37: التقـــــــــويم الثاني | F37: الاختبـــار النهــائي | G37: المجمـــــــــــــــوع | K37: التقـــــــــويم الاول | L37: التقـــــــــويم الثاني | M37: الاختبـــار النهــائي | N37: المجمـــــــــــــــوع | P37: علامة اختبار الإكمال
D38: 0.3 | E38: 0.3 | F38: 0.4 | G38: 1 | K38: =D38 -> 0.3 | L38: =E38 -> 0.3 | M38: =F38 -> 0.4 | N38: 1 | O38: 1
B39: ابداء أسماء الطلاب من هنا | G39: =IF(COUNT(D39:F39)>3,SUM(D39:F39),"") | N39: =IF(COUNT(K39:M39)>3,SUM(K39:M39),"") | O39: =IF(COUNT(N39,G71)>=2,ROUND((N39+G71)/2,0),"")
G40: =IF(COUNT(D40:F40)>3,SUM(D40:F40),"") | N40: =IF(COUNT(K40:M40)>3,SUM(K40:M40),"") | O40: =IF(COUNT(N40,G72)>=2,ROUND((N40+G72)/2,0),"")
G41: =IF(COUNT(D41:F41)>3,SUM(D41:F41),"") | N41: =IF(COUNT(K41:M41)>3,SUM(K41:M41),"") | O41: =IF(COUNT(N41,G73)>=2,ROUND((N41+G73)/2,0),"")
G42: =IF(COUNT(D42:F42)>3,SUM(D42:F42),"") | N42: =IF(COUNT(K42:M42)>3,SUM(K42:M42),"") | O42: =IF(COUNT(N42,G74)>=2,ROUND((N42+G74)/2,0),"")
G43: =IF(COUNT(D43:F43)>3,SUM(D43:F43),"") | N43: =IF(COUNT(K43:M43)>3,SUM(K43:M43),"") | O43: =IF(COUNT(N43,G75)>=2,ROUND((N43+G75)/2,0),"")
G44: =IF(COUNT(D44:F44)>3,SUM(D44:F44),"") | N44: =IF(COUNT(K44:M44)>3,SUM(K44:M44),"") | O44: =IF(COUNT(N44,G76)>=2,ROUND((N44+G76)/2,0),"")
G45: =IF(COUNT(D45:F45)>3,SUM(D45:F45),"") | N45: =IF(COUNT(K45:M45)>3,SUM(K45:M45),"") | O45: =IF(COUNT(N45,G77)>=2,ROUND((N45+G77)/2,0),"")
G46: =IF(COUNT(D46:F46)>3,SUM(D46:F46),"") | N46: =IF(COUNT(K46:M46)>3,SUM(K46:M46),"") | O46: =IF(COUNT(N46,G78)>=2,ROUND((N46+G78)/2,0),"")
G47: =IF(COUNT(D47:F47)>3,SUM(D47:F47),"") | N47: =IF(COUNT(K47:M47)>3,SUM(K47:M47),"") | O47: =IF(COUNT(N47,G79)>=2,ROUND((N47+G79)/2,0),"")
G48: =IF(COUNT(D48:F48)>3,SUM(D48:F48),"") | N48: =IF(COUNT(K48:M48)>3,SUM(K48:M48),"") | O48: =IF(COUNT(N48,G80)>=2,ROUND((N48+G80)/2,0),"")
G49: =IF(COUNT(D49:F49)>3,SUM(D49:F49),"") | N49: =IF(COUNT(K49:M49)>3,SUM(K49:M49),"") | O49: =IF(COUNT(N49,G81)>=2,ROUND((N49+G81)/2,0),"")
G50: =IF(COUNT(D50:F50)>3,SUM(D50:F50),"") | N50: =IF(COUNT(K50:M50)>3,SUM(K50:M50),"") | O50: =IF(COUNT(N50,G82)>=2,ROUND((N50+G82)/2,0),"")
G51: =IF(COUNT(D51:F51)>3,SUM(D51:F51),"") | N51: =IF(COUNT(K51:M51)>3,SUM(K51:M51),"") | O51: =IF(COUNT(N51,G83)>=2,ROUND((N51+G83)/2,0),"")
... G63: =IF(COUNT(D63:F63)>3,SUM(D63:F63),"") | N63: =IF(COUNT(K63:M63)>3,SUM(K63:M63),"") | O63: =IF(COUNT(N63,G95)>=2,ROUND((N63+G95)/2,0),"")
A65: - 4 - | K65: 45
B66: الصف : | H66: الشعبة ( ) | M66: اسم المادة
A68: الرقم المتسلسل | B68: الاســــــــــــــــــم | D68: ب | E68: جـ | F68: د | G68: هـ | H68: ملحوظــــــات | K68: ز | L68: حـ | M68: ط | N68: ي | O68: النتيجة السنوية | Q68: ملحوظــــــــات
D69: التقـــــــــويم الاول | E69: التقـــــــــويم الثاني | F69: الاختبـــار النهــائي | G69: المجمـــــــــــــــوع | K69: التقـــــــــويم الاول | L69: التقـــــــــويم الثاني | M69: الاختبـــار النهــائي | N69: المجمـــــــــــــــوع | P69: علامة اختبار الإكمال
D70: 0.3 | E70: 0.3 | F70: 0.4 | G70: 1 | K70: =D70 -> 0.3 | L70: =E70 -> 0.3 | M70: =F70 -> 0.4 | N70: 1 | O70: 1
G71: =IF(COUNT(D71:F71)>3,SUM(D71:F71),"") | N71: =IF(COUNT(K71:M71)>3,SUM(K71:M71),"") | O71: =IF(COUNT(N71,G39)>=2,ROUND((N71+G39)/2,0),"")
G72: =IF(COUNT(D72:F72)>3,SUM(D72:F72),"") | N72: =IF(COUNT(K72:M72)>3,SUM(K72:M72),"") | O72: =IF(COUNT(N72,G40)>=2,ROUND((N72+G40)/2,0),"")
G73: =IF(COUNT(D73:F73)>3,SUM(D73:F73),"") | N73: =IF(COUNT(K73:M73)>3,SUM(K73:M73),"") | O73: =IF(COUNT(N73,G41)>=2,ROUND((N73+G41)/2,0),"")
G74: =IF(COUNT(D74:F74)>3,SUM(D74:F74),"") | N74: =IF(COUNT(K74:M74)>3,SUM(K74:M74),"") | O74: =IF(COUNT(N74,G42)>=2,ROUND((N74+G42)/2,0),"")
G75: =IF(COUNT(D75:F75)>3,SUM(D75:F75),"") | N75: =IF(COUNT(K75:M75)>3,SUM(K75:M75),"") | O75: =IF(COUNT(N75,G43)>=2,ROUND((N75+G43)/2,0),"")
G76: =IF(COUNT(D76:F76)>3,SUM(D76:F76),"") | N76: =IF(COUNT(K76:M76)>3,SUM(K76:M76),"") | O76: =IF(COUNT(N76,G44)>=2,ROUND((N76+G44)/2,0),"")
G77: =IF(COUNT(D77:F77)>3,SUM(D77:F77),"") | N77: =IF(COUNT(K77:M77)>3,SUM(K77:M77),"") | O77: =IF(COUNT(N77,G45)>=2,ROUND((N77+G45)/2,0),"")
G78: =IF(COUNT(D78:F78)>3,SUM(D78:F78),"") | N78: =IF(COUNT(K78:M78)>3,SUM(K78:M78),"") | O78: =IF(COUNT(N78,G46)>=2,ROUND((N78+G46)/2,0),"")
G79: =IF(COUNT(D79:F79)>3,SUM(D79:F79),"") | N79: =IF(COUNT(K79:M79)>3,SUM(K79:M79),"") | O79: =IF(COUNT(N79,G47)>=2,ROUND((N79+G47)/2,0),"")
G80: =IF(COUNT(D80:F80)>3,SUM(D80:F80),"") | N80: =IF(COUNT(K80:M80)>3,SUM(K80:M80),"") | O80: =IF(COUNT(N80,G48)>=2,ROUND((N80+G48)/2,0),"")
G81: =IF(COUNT(D81:F81)>3,SUM(D81:F81),"") | N81: =IF(COUNT(K81:M81)>3,SUM(K81:M81),"") | O81: =IF(COUNT(N81,G49)>=2,ROUND((N81+G49)/2,0),"")
G82: =IF(COUNT(D82:F82)>3,SUM(D82:F82),"") | N82: =IF(COUNT(K82:M82)>3,SUM(K82:M82),"") | O82: =IF(COUNT(N82,G50)>=2,ROUND((N82+G50)/2,0),"")
... G95: =IF(COUNT(D95:F95)>3,SUM(D95:F95),"") | N95: =IF(COUNT(K95:M95)>3,SUM(K95:M95),"") | O95: =IF(COUNT(N95,G63)>=2,ROUND((N95+G63)/2,0),"")
A97: - 44 - | K97: 5
B98: الصف : | H98: الشعبة ( ) | M98: اسم المادة
A100: الرقم المتسلسل | B100: الاســــــــــــــــــم | D100: ب | E100: جـ | F100: د | G100: هـ | H100: ملحوظــــــات | K100: ز | L100: حـ | M100: ط | N100: ي | O100: النتيجة السنوية | Q100: ملحوظــــــــات
D101: التقـــــــــويم الاول | E101: التقـــــــــويم الثاني | F101: الاختبـــار النهــائي | G101: المجمـــــــــــــــوع | K101: التقـــــــــويم الاول | L101: التقـــــــــويم الثاني | M101: الاختبـــار النهــائي | N101: المجمـــــــــــــــوع | P101: علامة اختبار الإكمال
D102: 0.3 | E102: 0.3 | F102: 0.4 | G102: 1 | K102: =D102 -> 0.3 | L102: =E102 -> 0.3 | M102: =F102 -> 0.4 | N102: 1 | O102: 1
G103: =IF(COUNT(D103:F103)>3,SUM(D103:F103),"") | N103: =IF(COUNT(K103:M103)>3,SUM(K103:M103),"") | O103: =IF(COUNT(N103,G135)>=2,ROUND((N103+G135)/2,0),"")
G104: =IF(COUNT(D104:F104)>3,SUM(D104:F104),"") | N104: =IF(COUNT(K104:M104)>3,SUM(K104:M104),"") | O104: =IF(COUNT(N104,G136)>=2,ROUND((N104+G136)/2,0),"")
G105: =IF(COUNT(D105:F105)>3,SUM(D105:F105),"") | N105: =IF(COUNT(K105:M105)>3,SUM(K105:M105),"") | O105: =IF(COUNT(N105,G137)>=2,ROUND((N105+G137)/2,0),"")
G106: =IF(COUNT(D106:F106)>3,SUM(D106:F106),"") | N106: =IF(COUNT(K106:M106)>3,SUM(K106:M106),"") | O106: =IF(COUNT(N106,G138)>=2,ROUND((N106+G138)/2,0),"")
G107: =IF(COUNT(D107:F107)>3,SUM(D107:F107),"") | N107: =IF(COUNT(K107:M107)>3,SUM(K107:M107),"") | O107: =IF(COUNT(N107,G139)>=2,ROUND((N107+G139)/2,0),"")
G108: =IF(COUNT(D108:F108)>3,SUM(D108:F108),"") | N108: =IF(COUNT(K108:M108)>3,SUM(K108:M108),"") | O108: =IF(COUNT(N108,G140)>=2,ROUND((N108+G140)/2,0),"")
G109: =IF(COUNT(D109:F109)>3,SUM(D109:F109),"") | N109: =IF(COUNT(K109:M109)>3,SUM(K109:M109),"") | O109: =IF(COUNT(N109,G141)>=2,ROUND((N109+G141)/2,0),"")
G110: =IF(COUNT(D110:F110)>3,SUM(D110:F110),"") | N110: =IF(COUNT(K110:M110)>3,SUM(K110:M110),"") | O110: =IF(COUNT(N110,G142)>=2,ROUND((N110+G142)/2,0),"")
G111: =IF(COUNT(D111:F111)>3,SUM(D111:F111),"") | N111: =IF(COUNT(K111:M111)>3,SUM(K111:M111),"") | O111: =IF(COUNT(N111,G143)>=2,ROUND((N111+G143)/2,0),"")
G112: =IF(COUNT(D112:F112)>3,SUM(D112:F112),"") | N112: =IF(COUNT(K112:M112)>3,SUM(K112:M112),"") | O112: =IF(COUNT(N112,G144)>=2,ROUND((N112+G144)/2,0),"")
G113: =IF(COUNT(D113:F113)>3,SUM(D113:F113),"") | N113: =IF(COUNT(K113:M113)>3,SUM(K113:M113),"") | O113: =IF(COUNT(N113,G145)>=2,ROUND((N113+G145)/2,0),"")
G114: =IF(COUNT(D114:F114)>3,SUM(D114:F114),"") | N114: =IF(COUNT(K114:M114)>3,SUM(K114:M114),"") | O114: =IF(COUNT(N114,G146)>=2,ROUND((N114+G146)/2,0),"")
... G127: =IF(COUNT(D127:F127)>3,SUM(D127:F127),"") | N127: =IF(COUNT(K127:M127)>3,SUM(K127:M127),"") | O127: =IF(COUNT(N127,G159)>=2,ROUND((N127+G159)/2,0),"")
A129: - 6 - | K129: 43
B130: الصف : | H130: الشعبة ( ) | M130: اسم المادة
A132: الرقم المتسلسل | B132: الاســــــــــــــــــم | D132: ب | E132: جـ | F132: د | G132: هـ | H132: ملحوظــــــات | K132: ز | L132: حـ | M132: ط | N132: ي | O132: النتيجة السنوية | Q132: ملحوظــــــــات
D133: التقـــــــــويم الاول | E133: التقـــــــــويم الثاني | F133: الاختبـــار النهــائي | G133: المجمـــــــــــــــوع | K133: التقـــــــــويم الاول | L133: التقـــــــــويم الثاني | M133: الاختبـــار النهــائي | N133: المجمـــــــــــــــوع | P133: علامة اختبار الإكمال
D134: 0.3 | E134: 0.3 | F134: 0.4 | G134: 1 | K134: =D134 -> 0.3 | L134: =E134 -> 0.3 | M134: =F134 -> 0.4 | N134: 1 | O134: 1
G135: =IF(COUNT(D135:F135)>3,SUM(D135:F135),"") | N135: =IF(COUNT(K135:M135)>3,SUM(K135:M135),"") | O135: =IF(COUNT(N135,G103)>=2,ROUND((N135+G103)/2,0),"")
G136: =IF(COUNT(D136:F136)>3,SUM(D136:F136),"") | N136: =IF(COUNT(K136:M136)>3,SUM(K136:M136),"") | O136: =IF(COUNT(N136,G104)>=2,ROUND((N136+G104)/2,0),"")
G137: =IF(COUNT(D137:F137)>3,SUM(D137:F137),"") | N137: =IF(COUNT(K137:M137)>3,SUM(K137:M137),"") | O137: =IF(COUNT(N137,G105)>=2,ROUND((N137+G105)/2,0),"")
G138: =IF(COUNT(D138:F138)>3,SUM(D138:F138),"") | N138: =IF(COUNT(K138:M138)>3,SUM(K138:M138),"") | O138: =IF(COUNT(N138,G106)>=2,ROUND((N138+G106)/2,0),"")
G139: =IF(COUNT(D139:F139)>3,SUM(D139:F139),"") | N139: =IF(COUNT(K139:M139)>3,SUM(K139:M139),"") | O139: =IF(COUNT(N139,G107)>=2,ROUND((N139+G107)/2,0),"")
G140: =IF(COUNT(D140:F140)>3,SUM(D140:F140),"") | N140: =IF(COUNT(K140:M140)>3,SUM(K140:M140),"") | O140: =IF(COUNT(N140,G108)>=2,ROUND((N140+G108)/2,0),"")
G141: =IF(COUNT(D141:F141)>3,SUM(D141:F141),"") | N141: =IF(COUNT(K141:M141)>3,SUM(K141:M141),"") | O141: =IF(COUNT(N141,G109)>=2,ROUND((N141+G109)/2,0),"")
G142: =IF(COUNT(D142:F142)>3,SUM(D142:F142),"") | N142: =IF(COUNT(K142:M142)>3,SUM(K142:M142),"") | O142: =IF(COUNT(N142,G110)>=2,ROUND((N142+G110)/2,0),"")
G143: =IF(COUNT(D143:F143)>3,SUM(D143:F143),"") | N143: =IF(COUNT(K143:M143)>3,SUM(K143:M143),"") | O143: =IF(COUNT(N143,G111)>=2,ROUND((N143+G111)/2,0),"")
G144: =IF(COUNT(D144:F144)>3,SUM(D144:F144),"") | N144: =IF(COUNT(K144:M144)>3,SUM(K144:M144),"") | O144: =IF(COUNT(N144,G112)>=2,ROUND((N144+G112)/2,0),"")
G145: =IF(COUNT(D145:F145)>3,SUM(D145:F145),"") | N145: =IF(COUNT(K145:M145)>3,SUM(K145:M145),"") | O145: =IF(COUNT(N145,G113)>=2,ROUND((N145+G113)/2,0),"")
G146: =IF(COUNT(D146:F146)>3,SUM(D146:F146),"") | N146: =IF(COUNT(K146:M146)>3,SUM(K146:M146),"") | O146: =IF(COUNT(N146,G114)>=2,ROUND((N146+G114)/2,0),"")
... G159: =IF(COUNT(D159:F159)>3,SUM(D159:F159),"") | N159: =IF(COUNT(K159:M159)>3,SUM(K159:M159),"") | O159: =IF(COUNT(N159,G127)>=2,ROUND((N159+G127)/2,0),"")
A161: - 42 - | K161: 7
B162: الصف : | H162: الشعبة ( ) | M162: اسم المادة
A164: الرقم المتسلسل | B164: الاســــــــــــــــــم | D164: ب | E164: جـ | F164: د | G164: هـ | H164: ملحوظــــــات | K164: ز | L164: حـ | M164: ط | N164: ي | O164: النتيجة السنوية | Q164: ملحوظــــــــات
D165: التقـــــــــويم الاول | E165: التقـــــــــويم الثاني | F165: الاختبـــار النهــائي | G165: المجمـــــــــــــــوع | K165: التقـــــــــويم الاول | L165: التقـــــــــويم الثاني | M165: الاختبـــار النهــائي | N165: المجمـــــــــــــــوع | P165: علامة اختبار الإكمال
D166: 0.3 | E166: 0.3 | F166: 0.4 | G166: 1 | K166: =D166 -> 0.3 | L166: =E166 -> 0.3 | M166: =F166 -> 0.4 | N166: 1 | O166: 1
G167: =IF(COUNT(D167:F167)>3,SUM(D167:F167),"") | N167: =IF(COUNT(K167:M167)>3,SUM(K167:M167),"") | O167: =IF(COUNT(N167,G199)>=2,ROUND((N167+G199)/2,0),"")
G168: =IF(COUNT(D168:F168)>3,SUM(D168:F168),"") | N168: =IF(COUNT(K168:M168)>3,SUM(K168:M168),"") | O168: =IF(COUNT(N168,G200)>=2,ROUND((N168+G200)/2,0),"")
G169: =IF(COUNT(D169:F169)>3,SUM(D169:F169),"") | N169: =IF(COUNT(K169:M169)>3,SUM(K169:M169),"") | O169: =IF(COUNT(N169,G201)>=2,ROUND((N169+G201)/2,0),"")
G170: =IF(COUNT(D170:F170)>3,SUM(D170:F170),"") | N170: =IF(COUNT(K170:M170)>3,SUM(K170:M170),"") | O170: =IF(COUNT(N170,G202)>=2,ROUND((N170+G202)/2,0),"")
G171: =IF(COUNT(D171:F171)>3,SUM(D171:F171),"") | N171: =IF(COUNT(K171:M171)>3,SUM(K171:M171),"") | O171: =IF(COUNT(N171,G203)>=2,ROUND((N171+G203)/2,0),"")
...
